BEGIN:VCALENDAR
VERSION:2.0
PRODID:-//Marie Curie Grundschule Dohna - ECPv5.1.6//NONSGML v1.0//EN
CALSCALE:GREGORIAN
METHOD:PUBLISH
X-WR-CALNAME:Marie Curie Grundschule Dohna
X-ORIGINAL-URL:https://www.grundschule-dohna.de
X-WR-CALDESC:Veranstaltungen für Marie Curie Grundschule Dohna
BEGIN:VTIMEZONE
TZID:Europe/Berlin
BEGIN:DAYLIGHT
TZOFFSETFROM:+0100
TZOFFSETTO:+0200
TZNAME:CEST
DTSTART:20230326T010000
END:DAYLIGHT
BEGIN:STANDARD
TZOFFSETFROM:+0200
TZOFFSETTO:+0100
TZNAME:CET
DTSTART:20231029T010000
END:STANDARD
END:VTIMEZONE
BEGIN:VEVENT
DTSTART;VALUE=DATE:20230526
DTEND;VALUE=DATE:20230527
DTSTAMP:20260423T202615
CREATED:20220406T095531Z
LAST-MODIFIED:20220616T061141Z
UID:4375-1685059200-1685145599@www.grundschule-dohna.de
SUMMARY:Frei beweglicher Ferientag
DESCRIPTION:
URL:https://www.grundschule-dohna.de/termine/frei-beweglicher-ferientag/
END:VEVENT
END:VCALENDAR