BEGIN:VCALENDAR
VERSION:2.0
PRODID:-//Marie Curie Grundschule Dohna - ECPv5.1.6//NONSGML v1.0//EN
CALSCALE:GREGORIAN
METHOD:PUBLISH
X-WR-CALNAME:Marie Curie Grundschule Dohna
X-ORIGINAL-URL:https://www.grundschule-dohna.de
X-WR-CALDESC:Veranstaltungen für Marie Curie Grundschule Dohna
BEGIN:VTIMEZONE
TZID:Europe/Berlin
BEGIN:DAYLIGHT
TZOFFSETFROM:+0100
TZOFFSETTO:+0200
TZNAME:CEST
DTSTART:20230326T010000
END:DAYLIGHT
BEGIN:STANDARD
TZOFFSETFROM:+0200
TZOFFSETTO:+0100
TZNAME:CET
DTSTART:20231029T010000
END:STANDARD
END:VTIMEZONE
BEGIN:VEVENT
DTSTART;VALUE=DATE:20230424
DTEND;VALUE=DATE:20230429
DTSTAMP:20260423T220459
CREATED:20220908T082858Z
LAST-MODIFIED:20230112T090216Z
UID:4527-1682294400-1682726399@www.grundschule-dohna.de
SUMMARY:Projektwoche "Aktiv für unsere Umwelt"
DESCRIPTION:
URL:https://www.grundschule-dohna.de/termine/projektwoche-zum-thema-umwelt/
END:VEVENT
BEGIN:VEVENT
DTSTART;TZID=Europe/Berlin:20230427T161500
DTEND;TZID=Europe/Berlin:20230427T180000
DTSTAMP:20260423T220459
CREATED:20230112T085741Z
LAST-MODIFIED:20230420T064609Z
UID:4634-1682612100-1682618400@www.grundschule-dohna.de
SUMMARY:Grundschulfest
DESCRIPTION:
URL:https://www.grundschule-dohna.de/termine/grundschulfest/
END:VEVENT
END:VCALENDAR