BEGIN:VCALENDAR
VERSION:2.0
PRODID:-//Marie Curie Grundschule Dohna - ECPv5.1.6//NONSGML v1.0//EN
CALSCALE:GREGORIAN
METHOD:PUBLISH
X-WR-CALNAME:Marie Curie Grundschule Dohna
X-ORIGINAL-URL:https://www.grundschule-dohna.de
X-WR-CALDESC:Veranstaltungen für Marie Curie Grundschule Dohna
BEGIN:VTIMEZONE
TZID:Europe/Berlin
BEGIN:DAYLIGHT
TZOFFSETFROM:+0100
TZOFFSETTO:+0200
TZNAME:CEST
DTSTART:20230326T010000
END:DAYLIGHT
BEGIN:STANDARD
TZOFFSETFROM:+0200
TZOFFSETTO:+0100
TZNAME:CET
DTSTART:20231029T010000
END:STANDARD
END:VTIMEZONE
BEGIN:VEVENT
DTSTART;VALUE=DATE:20230316
DTEND;VALUE=DATE:20230317
DTSTAMP:20260423T234700
CREATED:20220908T070246Z
LAST-MODIFIED:20230307T131849Z
UID:4525-1678924800-1679011199@www.grundschule-dohna.de
SUMMARY:Känguru-Wettbewerb Mathe
DESCRIPTION:Känguru-Wettbewerb Mathe – Klassenstufe 3 und 4
URL:https://www.grundschule-dohna.de/termine/kaenguru-wettbewerb-mathe-marie-curie-projekt/
END:VEVENT
END:VCALENDAR